BEGIN:VCALENDAR
VERSION:2.0
PRODID:-//eventon.com NONSGML v1.0//EN
BEGIN:VEVENT
UID:69e755e0a917c
DTSTAMP:20260421T104800
DTSTART:20211203T140000Z
DTEND:20211203T170000Z
TZID:America/New_York
LOCATION:
SUMMARY:Hanging of the Greens
DESCRIPTION: December 3\,  9am-12pm- Volunteers will enjoy the festive work and great company as the Sanctuary is transformed with wreaths\,  boughs and bows. Join us- there is special\,  creative work for everyone! Nursery available upon request.\nhttps://ortegachurch.org/events/hanging-of-the-greens/
URL:https://ortegachurch.org/events/hanging-of-the-greens/
END:VEVENT
END:VCALENDAR