BEGIN:VCALENDAR
VERSION:2.0
PRODID:-//eventon.com NONSGML v1.0//EN
BEGIN:VEVENT
UID:69e73dd52d510
DTSTAMP:20260421T090525
DTSTART:20211106T123000Z
DTEND:20211106T160000Z
TZID:America/New_York
LOCATION:
SUMMARY:Methodist Children's Village Workday
DESCRIPTION: Join Ortega Church as we serve our Community Mission Partner Methodist Children&#8217;s Village\,  a church-rooted Title One Daycare. We will have both facility and playground light repairs and clean up projects. There is a job for everyone. Join us for an hour\,  or an entire morning. Nursery drop-off is at[..]\nhttps://ortegachurch.org/events/methodist-childrens-village-workday/
URL:https://ortegachurch.org/events/methodist-childrens-village-workday/
END:VEVENT
END:VCALENDAR