BEGIN:VCALENDAR
VERSION:2.0
PRODID:-//eventon.com NONSGML v1.0//EN
BEGIN:VEVENT
UID:69e746f50a36b
DTSTAMP:20260421T094421
DTSTART:20260510T143000Z
DTEND:20260510T153000Z
TZID:America/New_York
LOCATION:
SUMMARY:Sunday Worship
DESCRIPTION: Sunday Worship\nhttps://ortegachurch.org/events/sunday-worship-128/
URL:https://ortegachurch.org/events/sunday-worship-128/
END:VEVENT
END:VCALENDAR