BEGIN:VCALENDAR
VERSION:2.0
PRODID:-//eventon.com NONSGML v1.0//EN
BEGIN:VEVENT
UID:69e755f6ecea8
DTSTAMP:20260421T104822
DTSTART:20260322T143000Z
DTEND:20260322T153000Z
TZID:America/New_York
LOCATION:
SUMMARY:Sunday Worship
DESCRIPTION: RSVP FOR PALM SUNDAY CELEBRATION BY MARCH 22: https://churchteams.com/m/b/Register.asp?a=N3QzNG10dGxNUkU9 &nbsp; 🌿Sunday\,  March 29: Join us at Ortega Church for a wonderful day of fellowship and fun on Palm Sunday\,  March 29! Following the worship service\,  enjoy a Dinner on the Grounds at 11:45 a.m. in the Ortega Life Center. Bring[..]\nhttps://ortegachurch.org/events/sunday-worship-112/
URL:https://ortegachurch.org/events/sunday-worship-112/
END:VEVENT
END:VCALENDAR