BEGIN:VCALENDAR
VERSION:2.0
PRODID:-//eventon.com NONSGML v1.0//EN
BEGIN:VEVENT
UID:69e7421c09fab
DTSTAMP:20260421T092340
DTSTART:20260315T143000Z
DTEND:20260315T153000Z
TZID:America/New_York
LOCATION:
SUMMARY:Sunday Worship - New Member Sunday
DESCRIPTION: ⛪ Sunday\,  March 15 NEW MEMBER SUNDAY Have you been visiting and thinking about making our church your church home? Join us for New Member Sunday on March 15 during the 10:30 a.m. worship service! If you’re interested in becoming part of our congregation\,  we would love to welcome you.[..]\nhttps://ortegachurch.org/events/sunday-worship-111/
URL:https://ortegachurch.org/events/sunday-worship-111/
END:VEVENT
END:VCALENDAR