BEGIN:VCALENDAR
VERSION:2.0
PRODID:-//eventon.com NONSGML v1.0//EN
BEGIN:VEVENT
UID:69e73ec319404
DTSTAMP:20260421T090923
DTSTART:20250226T234500Z
DTEND:20250227T010000Z
TZID:America/New_York
LOCATION:
SUMMARY:Ortega Youth - The Mix
DESCRIPTION: Wednesday Nights February 5\, 12\, 19\,  26 6:45pm-8pm\nhttps://ortegachurch.org/events/ortega-youth-the-mix-12/
URL:https://ortegachurch.org/events/ortega-youth-the-mix-12/
END:VEVENT
END:VCALENDAR