BEGIN:VCALENDAR
VERSION:2.0
PRODID:-//eventon.com NONSGML v1.0//EN
BEGIN:VEVENT
UID:69e73e567db23
DTSTAMP:20260421T090734
DTSTART:20240915T140000Z
DTEND:20240915T153000Z
TZID:America/New_York
LOCATION:
SUMMARY:Ortega Youth - The Glaze & Youth Service
DESCRIPTION: SUNDAY MORNINGS -YOUTH ROOM 10-10:30AM: SEPTEMBER 1 10-11:30AM:  SEPT. 8\,  15\,  22\,  29  & OCTOBER 6\,  13\,  20\,  27 &nbsp;\nhttps://ortegachurch.org/events/ortega-youth-the-glaze-youth-service-3/
URL:https://ortegachurch.org/events/ortega-youth-the-glaze-youth-service-3/
END:VEVENT
END:VCALENDAR