BEGIN:VCALENDAR
VERSION:2.0
PRODID:-//eventon.com NONSGML v1.0//EN
BEGIN:VEVENT
UID:69e73e12b3632
DTSTAMP:20260421T090626
DTSTART:20240211T150000Z
DTEND:20240211T153000Z
TZID:America/New_York
LOCATION:
SUMMARY:Youth Group - The Glaze
DESCRIPTION: Youth are invited to come hang out and enjoy breakfast (donuts\,  bagels etc.) in the Youth Room at 10am! &nbsp;\nhttps://ortegachurch.org/events/youth-group-the-glaze-6/
URL:https://ortegachurch.org/events/youth-group-the-glaze-6/
END:VEVENT
END:VCALENDAR