BEGIN:VCALENDAR
VERSION:2.0
PRODID:-//eventon.com NONSGML v1.0//EN
BEGIN:VEVENT
UID:69e755c0bea44
DTSTAMP:20260421T104728
DTSTART:20230809T220000Z
DTEND:20230810T000000Z
TZID:America/New_York
LOCATION:
SUMMARY:Ignite Youth Group: Flame Initiation
DESCRIPTION: Ignite Youth are invited to join us for the Flame Initiation\,  6-8pm. Contact John Hutton for more information.\nhttps://ortegachurch.org/events/ignite-youth-group-flame-initiation/
URL:https://ortegachurch.org/events/ignite-youth-group-flame-initiation/
END:VEVENT
END:VCALENDAR