BEGIN:VCALENDAR
VERSION:2.0
PRODID:-//eventon.com NONSGML v1.0//EN
BEGIN:VEVENT
UID:69e753a1278b5
DTSTAMP:20260421T103825
DTSTART:20230409T120000Z
DTEND:20230416T120000Z
TZID:America/New_York
LOCATION:
SUMMARY:Family Promise
DESCRIPTION: Family Promise Family Promise of Jacksonville is a non-profit\,  interfaith hospitality network providing temporary shelter\,  meals\,  hospitality and case management for families experiencing homelessness.   Family Promise works with homeless families to tailor individualized plans and help them take the necessary steps toward lasting independence.  Ortega Church is one of[..]\nhttps://ortegachurch.org/events/family-promise-5/
URL:https://ortegachurch.org/events/family-promise-5/
END:VEVENT
END:VCALENDAR