BEGIN:VCALENDAR
VERSION:2.0
PRODID:-//eventon.com NONSGML v1.0//EN
BEGIN:VEVENT
UID:69e9c62ee6d3e
DTSTAMP:20260423T071142
DTSTART:20230316T220000Z
DTEND:20230317T010000Z
TZID:America/New_York
LOCATION:
SUMMARY:Ignite Youth - Skate Station
DESCRIPTION: YOUTH: Come join us and invite a friend to the skate station in Orange park. There are opportunities to skate\,  laser tag\,  arcade games\,  and putt-putt. March 16\,  6PM-9PM\nhttps://ortegachurch.org/events/ignite-youth-skate-station/
URL:https://ortegachurch.org/events/ignite-youth-skate-station/
END:VEVENT
END:VCALENDAR