BEGIN:VCALENDAR
VERSION:2.0
PRODID:-//eventon.com NONSGML v1.0//EN
BEGIN:VEVENT
UID:69e4d5b5c43dd
DTSTAMP:20260419T131637
DTSTART:20230205T153000Z
DTEND:20230206T045000Z
TZID:America/New_York
LOCATION:
SUMMARY:Sunday Worship Service
DESCRIPTION: Sunday Worship Service\nhttps://ortegachurch.org/events/sunday-worship-service-17/
URL:https://ortegachurch.org/events/sunday-worship-service-17/
END:VEVENT
END:VCALENDAR